Workbook

Sheet Summary
A1: ScrollShield — Investor summary: two scenarios side by side
A2: Every figure is a formula on Model_A / Model_B; assumptions sit on Assumptions_A / Assumptions_B, each with a source or the label 'Assumption'.
A4: Scenario A — Italy first, then EU
A5: Indicator | B5: 2027 | C5: 2028 | D5: 2029 | E5: 2030 | F5: 2031
A6: Active users at year end | B6: =Model_A!B9 -> 45000 | C6: =Model_A!C9 -> 207000 | D6: =Model_A!D9 -> 574200 | E6: =Model_A!E9 -> 1244520 | F6: =Model_A!F9 -> 2246712
A7: Paying subscribers at year end | B7: =Model_A!B10 -> 1350 | C7: =Model_A!C10 -> 8280 | D7: =Model_A!D10 -> 28710 | E7: =Model_A!E10 -> 62226 | F7: =Model_A!F10 -> 112335.6
A8: Total net revenue | B8: =Model_A!B21 -> 34419.262 | C8: =Model_A!C21 -> 320524.07 | D8: =Model_A!D21 -> 1270087.8 | E8: =Model_A!E21 -> 3230481.5 | F8: =Model_A!F21 -> 6490578.9
A9: of which B2B (schools + companies) | B9: =Model_A!B19+Model_A!B20 -> 0 | C9: =Model_A!C19+Model_A!C20 -> 75000 | D9: =Model_A!D19+Model_A!D20 -> 327000 | E9: =Model_A!E19+Model_A!E20 -> 912000 | F9: =Model_A!F19+Model_A!F20 -> 2040000
A10: Total costs | B10: =Model_A!B28 -> 466400 | C10: =Model_A!C28 -> 1217700 | D10: =Model_A!D28 -> 2525600 | E10: =Model_A!E28 -> 4048000 | F10: =Model_A!F28 -> 5335000
A11: EBITDA | B11: =Model_A!B31 -> -431980.74 | C11: =Model_A!C31 -> -897175.93 | D11: =Model_A!D31 -> -1255512.2 | E11: =Model_A!E31 -> -817518.48 | F11: =Model_A!F31 -> 1155578.9
A12: EBITDA margin | B12: =Model_A!B32 -> -12.550552 | C12: =Model_A!C32 -> -2.7990906 | D12: =Model_A!D32 -> -0.98852395 | E12: =Model_A!E32 -> -0.25306397 | F12: =Model_A!F32 -> 0.17803942
A13: Team (FTE) | B13: =Assumptions_A!B17 -> 4 | C13: =Assumptions_A!C17 -> 7 | D13: =Assumptions_A!D17 -> 12 | E13: =Assumptions_A!E17 -> 18 | F13: =Assumptions_A!F17 -> 25
A14: Cumulative cash without financing | B14: =Model_A!B33 -> -431980.74 | C14: =Model_A!C33 -> -1329156.7 | D14: =Model_A!D33 -> -2584668.9 | E14: =Model_A!E33 -> -3402187.4 | F14: =Model_A!F33 -> -2246608.4
A16: Peak cash need | B16: =-MIN(Model_A!B33:F33) -> 3402187.4
A17: Year of the low point | B17: =INDEX(Model_A!B4:F4,MATCH(MIN(Model_A!B33:F33),Model_A!B33:F33,0)) -> 2030
A18: Capital to raise to breakeven, with buffer | B18: =ROUNDUP(B16*(1+Assumptions_A!B23),-5) -> 4300000
A19: Seed round: 2027-2028 need with buffer | B19: =ROUNDUP(-MIN(0,Model_A!C33)*(1+Assumptions_A!B23),-5) -> 1700000
A20: First year with positive EBITDA | B20: =IFERROR(INDEX(Model_A!B4:F4,MATCH(TRUE(),INDEX(Model_A!B31:F31>0,0),0)),"beyond 2031") -> 2031
A22: Scenario B — EU and US from launch
A23: Indicator | B23: 2027 | C23: 2028 | D23: 2029 | E23: 2030 | F23: 2031
A24: Active users at year end | B24: =Model_B!B9 -> 360000 | C24: =Model_B!C9 -> 1266000 | D24: =Model_B!D9 -> 2859600 | E24: =Model_B!E9 -> 5315760 | F24: =Model_B!F9 -> 8589456
A25: Paying subscribers at year end | B25: =Model_B!B10 -> 10800 | C25: =Model_B!C10 -> 50640 | D25: =Model_B!D10 -> 142980 | E25: =Model_B!E10 -> 265788 | F25: =Model_B!F10 -> 429472.8
A26: Total net revenue | B26: =Model_B!B21 -> 302356.8 | C26: =Model_B!C21 -> 1945074.2 | D26: =Model_B!D21 -> 6572585.5 | E26: =Model_B!E21 -> 14713869 | F26: =Model_B!F21 -> 26304521
A27: of which B2B (schools + companies) | B27: =Model_B!B19+Model_B!B20 -> 0 | C27: =Model_B!C19+Model_B!C20 -> 225000 | D27: =Model_B!D19+Model_B!D20 -> 1152000 | E27: =Model_B!E19+Model_B!E20 -> 3270000 | F27: =Model_B!F19+Model_B!F20 -> 6840000
A28: Total costs | B28: =Model_B!B28 -> 3547500 | C28: =Model_B!C28 -> 7873800 | D28: =Model_B!D28 -> 13167000 | E28: =Model_B!E28 -> 18110400 | F28: =Model_B!F28 -> 23100000
A29: EBITDA | B29: =Model_B!B31 -> -3245143.2 | C29: =Model_B!C31 -> -5928725.8 | D29: =Model_B!D31 -> -6594414.5 | E29: =Model_B!E31 -> -3396531.1 | F29: =Model_B!F31 -> 3204521.4
A30: EBITDA margin | B30: =Model_B!B32 -> -10.732827 | C30: =Model_B!C32 -> -3.0480717 | D30: =Model_B!D32 -> -1.0033212 | E30: =Model_B!E32 -> -0.23083875 | F30: =Model_B!F32 -> 0.12182398
A31: Team (FTE) | B31: =Assumptions_B!B17 -> 9 | C31: =Assumptions_B!C17 -> 16 | D31: =Assumptions_B!D17 -> 28 | E31: =Assumptions_B!E17 -> 42 | F31: =Assumptions_B!F17 -> 60
A32: Cumulative cash without financing | B32: =Model_B!B33 -> -3245143.2 | C32: =Model_B!C33 -> -9173869 | D32: =Model_B!D33 -> -15768283 | E32: =Model_B!E33 -> -19164815 | F32: =Model_B!F33 -> -15960293
A34: Peak cash need | B34: =-MIN(Model_B!B33:F33) -> 19164815
A35: Year of the low point | B35: =INDEX(Model_B!B4:F4,MATCH(MIN(Model_B!B33:F33),Model_B!B33:F33,0)) -> 2030
A36: Capital to raise to breakeven, with buffer | B36: =ROUNDUP(B34*(1+Assumptions_B!B23),-5) -> 24000000
A37: Seed round: 2027-2028 need with buffer | B37: =ROUNDUP(-MIN(0,Model_B!C33)*(1+Assumptions_B!B23),-5) -> 11500000
A38: First year with positive EBITDA | B38: =IFERROR(INDEX(Model_B!B4:F4,MATCH(TRUE(),INDEX(Model_B!B31:F31>0,0),0)),"beyond 2031") -> 2031
A40: HEAD-TO-HEAD
A41: Indicator | B41: Scenario A | C41: Scenario B | D41: B / A
A42: Active users 2031 | B42: =Model_A!F9 -> 2246712 | C42: =Model_B!F9 -> 8589456 | D42: =IF(B42=0,0,C42/B42) -> 3.8231229
A43: Net revenue 2031 | B43: =Model_A!F21 -> 6490578.9 | C43: =Model_B!F21 -> 26304521 | D43: =IF(B43=0,0,C43/B43) -> 4.0527234
A44: EBITDA 2031 | B44: =Model_A!F31 -> 1155578.9 | C44: =Model_B!F31 -> 3204521.4 | D44: =IF(B44=0,0,C44/B44) -> 2.7730874
A45: Capital to raise to breakeven | B45: =ROUNDUP(-MIN(Model_A!B33:F33)*(1+Assumptions_A!B23),-5) -> 4300000 | C45: =ROUNDUP(-MIN(Model_B!B33:F33)*(1+Assumptions_B!B23),-5) -> 24000000 | D45: =IF(B45=0,0,C45/B45) -> 5.5813953
...

Sheet Assumptions_A
A1: ScrollShield — Assumptions · Scenario A — Italy first, then EU
A2: Blue cells = editable inputs. Every line is an assumption unless a source is given. Values in euro.
A4: Assumption | B4: 2027 | C4: 2028 | D4: 2029 | E4: 2030 | F4: 2031 | G4: Source / note
A5: New downloads in the year | B5: 150000 | C5: 600000 | D5: 1500000 | E5: 3000000 | F5: 5000000 | G5: Assumption. Benchmark: Opal ~200k downloads/month on iOS US alone (Adapty, 2024). 2027-28 Italy; EU expansion from 2029 (assumption).
A6: Activation: % of downloads still active at year end | B6: 0.3 | G6: Assumption.
A7: Annual retention of existing active users | B7: 0.6 | G7: Assumption.
A8: Paid conversion (% of active users) | B8: 0.03 | C8: 0.04 | D8: 0.05 | E8: 0.05 | F8: 0.05 | G8: Conservative assumption. Benchmark: Opal 9% after moving to freemium (RevenueCat, 2026).
A9: Annual subscription price (€) | B9: 59.99 | G9: Assumption. Benchmark: Opal Pro $99.99/year (opal.so/pricing); priced below for the EU market.
A10: Store commission (% of B2C revenue) | B10: 0.15 | G10: Apple/Google Small Business Program: 15% under $1M/year. Assumption: kept at 15% above the threshold via web checkout.
A11: Schools: active contracts | B11: 0 | C11: 20 | D11: 80 | E11: 200 | F11: 400 | G11: Assumption. B2B starts in 2028.
A12: Schools: students per contract | B12: 600 | G12: Assumption.
A13: Schools: price per student/year (€) | B13: 4 | G13: Assumption.
A14: Companies: active contracts | B14: 0 | C14: 5 | D14: 25 | E14: 80 | F14: 200 | G14: Assumption. B2B starts in 2028.
A15: Companies: users per contract | B15: 150 | G15: Assumption.
A16: Companies: price per user/year (€) | B16: 36 | G16: Assumption (€3/month per user).
A17: Team: average FTE in the year | B17: 4 | C17: 7 | D17: 12 | E17: 18 | F17: 25 | G17: Assumption.
A18: Average fully loaded cost per FTE (€) | B18: 55000 | C18: 57000 | D18: 58000 | E18: 60000 | F18: 62000 | G18: Assumption, Italian market.
A19: Acquisition cost per download (€) | B19: 1.2 | C19: 1.1 | D19: 1 | E19: 0.8 | F19: 0.6 | G19: Assumption, blended organic + paid; declines with word of mouth (Opal: free users are the marketing engine, RevenueCat 2026).
A20: Infrastructure and tools (€/year) | B20: 24000 | C20: 48000 | D20: 100000 | E20: 200000 | F20: 300000 | G20: Assumption. Inference runs on-device: cloud costs stay low.
A21: G&A (% of operating costs) | B21: 0.1 | G21: Assumption.
A22: Opening cash (€) | B22: 0 | G22: Assumption: company incorporated in early 2027.
A23: Buffer on funding need for the round (%) | B23: 0.25 | G23: Assumption: safety margin on the computed need.
A25: Legend: rows with a single value (yellow cell, 2027 column) apply to every year.

Sheet Model_A
A1: ScrollShield — Financial model 2027-2031 · Scenario A — Italy first, then EU
A2: Every cell is a formula reading the Assumptions sheet. Values in euro.
A4: Line | B4: 2027 | C4: 2028 | D4: 2029 | E4: 2030 | F4: 2031 | G4: How it is computed
A6: USERS
A7: New downloads | B7: =Assumptions_A!B5 -> 150000 | C7: =Assumptions_A!C5 -> 600000 | D7: =Assumptions_A!D5 -> 1500000 | E7: =Assumptions_A!E5 -> 3000000 | F7: =Assumptions_A!F5 -> 5000000 | G7: From Assumptions
A8: Active users at start of year | B8: =0 -> 0 | C8: =B9 -> 45000 | D8: =C9 -> 207000 | E8: =D9 -> 574200 | F8: =E9 -> 1244520 | G8: Previous year end
A9: Active users at year end | B9: =B8*Assumptions_A!$B$7+B7*Assumptions_A!$B$6 -> 45000 | C9: =C8*Assumptions_A!$B$7+C7*Assumptions_A!$B$6 -> 207000 | D9: =D8*Assumptions_A!$B$7+D7*Assumptions_A!$B$6 -> 574200 | E9: =E8*Assumptions_A!$B$7+E7*Assumptions_A!$B$6 -> 1244520 | F9: =F8*Assumptions_A!$B$7+F7*Assumptions_A!$B$6 -> 2246712 | G9: Existing actives × retention + new downloads × activation
A10: Paying subscribers at year end | B10: =B9*Assumptions_A!B8 -> 1350 | C10: =C9*Assumptions_A!C8 -> 8280 | D10: =D9*Assumptions_A!D8 -> 28710 | E10: =E9*Assumptions_A!E8 -> 62226 | F10: =F9*Assumptions_A!F8 -> 112335.6 | G10: Active users × conversion
A11: Average paying subscribers in the year | B11: =(0+B10)/2 -> 675 | C11: =(B10+C10)/2 -> 4815 | D11: =(C10+D10)/2 -> 18495 | E11: =(D10+E10)/2 -> 45468 | F11: =(E10+F10)/2 -> 87280.8 | G11: Average of start and end of year
A12: Students covered by school contracts | B12: =Assumptions_A!B11*Assumptions_A!$B$12 -> 0 | C12: =Assumptions_A!C11*Assumptions_A!$B$12 -> 12000 | D12: =Assumptions_A!D11*Assumptions_A!$B$12 -> 48000 | E12: =Assumptions_A!E11*Assumptions_A!$B$12 -> 120000 | F12: =Assumptions_A!F11*Assumptions_A!$B$12 -> 240000 | G12: Contracts × students per contract
A13: Users covered by company contracts | B13: =Assumptions_A!B14*Assumptions_A!$B$15 -> 0 | C13: =Assumptions_A!C14*Assumptions_A!$B$15 -> 750 | D13: =Assumptions_A!D14*Assumptions_A!$B$15 -> 3750 | E13: =Assumptions_A!E14*Assumptions_A!$B$15 -> 12000 | F13: =Assumptions_A!F14*Assumptions_A!$B$15 -> 30000 | G13: Contracts × users per contract
A15: REVENUE
A16: Gross B2C revenue | B16: =B11*Assumptions_A!$B$9 -> 40493.25 | C16: =C11*Assumptions_A!$B$9 -> 288851.85 | D16: =D11*Assumptions_A!$B$9 -> 1109515.1 | E16: =E11*Assumptions_A!$B$9 -> 2727625.3 | F16: =F11*Assumptions_A!$B$9 -> 5235975.2 | G16: Average subscribers × annual price
A17: Store commissions | B17: =-B16*Assumptions_A!$B$10 -> -6073.9875 | C17: =-C16*Assumptions_A!$B$10 -> -43327.777 | D17: =-D16*Assumptions_A!$B$10 -> -166427.26 | E17: =-E16*Assumptions_A!$B$10 -> -409143.8 | F17: =-F16*Assumptions_A!$B$10 -> -785396.28 | G17: Gross B2C revenue × commissione
A18: Net B2C revenue | B18: =B16+B17 -> 34419.262 | C18: =C16+C17 -> 245524.07 | D18: =D16+D17 -> 943087.79 | E18: =E16+E17 -> 2318481.5 | F18: =F16+F17 -> 4450578.9
A19: Schools revenue | B19: =B12*Assumptions_A!$B$13 -> 0 | C19: =C12*Assumptions_A!$B$13 -> 48000 | D19: =D12*Assumptions_A!$B$13 -> 192000 | E19: =E12*Assumptions_A!$B$13 -> 480000 | F19: =F12*Assumptions_A!$B$13 -> 960000 | G19: Students covered × price
A20: Companies revenue | B20: =B13*Assumptions_A!$B$16 -> 0 | C20: =C13*Assumptions_A!$B$16 -> 27000 | D20: =D13*Assumptions_A!$B$16 -> 135000 | E20: =E13*Assumptions_A!$B$16 -> 432000 | F20: =F13*Assumptions_A!$B$16 -> 1080000 | G20: Company users × price
A21: Total net revenue | B21: =B18+B19+B20 -> 34419.262 | C21: =C18+C19+C20 -> 320524.07 | D21: =D18+D19+D20 -> 1270087.8 | E21: =E18+E19+E20 -> 3230481.5 | F21: =F18+F19+F20 -> 6490578.9
A23: COSTS
A24: Team | B24: =Assumptions_A!B17*Assumptions_A!B18 -> 220000 | C24: =Assumptions_A!C17*Assumptions_A!C18 -> 399000 | D24: =Assumptions_A!D17*Assumptions_A!D18 -> 696000 | E24: =Assumptions_A!E17*Assumptions_A!E18 -> 1080000 | F24: =Assumptions_A!F17*Assumptions_A!F18 -> 1550000 | G24: FTE × average loaded cost
A25: Marketing and acquisition | B25: =B7*Assumptions_A!B19 -> 180000 | C25: =C7*Assumptions_A!C19 -> 660000 | D25: =D7*Assumptions_A!D19 -> 1500000 | E25: =E7*Assumptions_A!E19 -> 2400000 | F25: =F7*Assumptions_A!F19 -> 3000000 | G25: New downloads × cost per download
A26: Infrastructure and tools | B26: =Assumptions_A!B20 -> 24000 | C26: =Assumptions_A!C20 -> 48000 | D26: =Assumptions_A!D20 -> 100000 | E26: =Assumptions_A!E20 -> 200000 | F26: =Assumptions_A!F20 -> 300000 | G26: From Assumptions
A27: G&A | B27: =(B24+B25+B26)*Assumptions_A!$B$21 -> 42400 | C27: =(C24+C25+C26)*Assumptions_A!$B$21 -> 110700 | D27: =(D24+D25+D26)*Assumptions_A!$B$21 -> 229600 | E27: =(E24+E25+E26)*Assumptions_A!$B$21 -> 368000 | F27: =(F24+F25+F26)*Assumptions_A!$B$21 -> 485000 | G27: % of operating costs
A28: Total costs | B28: =SUM(B24:B27) -> 466400 | C28: =SUM(C24:C27) -> 1217700 | D28: =SUM(D24:D27) -> 2525600 | E28: =SUM(E24:E27) -> 4048000 | F28: =SUM(F24:F27) -> 5335000
A30: RESULT
A31: EBITDA | B31: =B21-B28 -> -431980.74 | C31: =C21-C28 -> -897175.93 | D31: =D21-D28 -> -1255512.2 | E31: =E21-E28 -> -817518.48 | F31: =F21-F28 -> 1155578.9 | G31: Net revenue − total costs
A32: EBITDA margin | B32: =IF(B21=0,0,B31/B21) -> -12.550552 | C32: =IF(C21=0,0,C31/C21) -> -2.7990906 | D32: =IF(D21=0,0,D31/D21) -> -0.98852395 | E32: =IF(E21=0,0,E31/E21) -> -0.25306397 | F32: =IF(F21=0,0,F31/F21) -> 0.17803942 | G32: EBITDA / net revenue
A33: Cumulative cash at year end (no financing) | B33: =Assumptions_A!$B$22+B31 -> -431980.74 | C33: =B33+C31 -> -1329156.7 | D33: =C33+D31 -> -2584668.9 | E33: =D33+E31 -> -3402187.4 | F33: =E33+F31 -> -2246608.4 | G33: Opening cash + cumulative EBITDA. The lowest point is the funding need.
A35: KPIs
A36: Average net revenue per subscriber (€) | B36: =IF(B11=0,0,B18/B11) -> 50.9915 | C36: =IF(C11=0,0,C18/C11) -> 50.9915 | D36: =IF(D11=0,0,D18/D11) -> 50.9915 | E36: =IF(E11=0,0,E18/E11) -> 50.9915 | F36: =IF(F11=0,0,F18/F11) -> 50.9915 | G36: Net B2C revenue / abbonati medi
A37: B2B share of revenue | B37: =IF(B21=0,0,(B19+B20)/B21) -> 0 | C37: =IF(C21=0,0,(C19+C20)/C21) -> 0.23399179 | D37: =IF(D21=0,0,(D19+D20)/D21) -> 0.25746252 | E37: =IF(E21=0,0,(E19+E20)/E21) -> 0.28231085 | F37: =IF(F21=0,0,(F19+F20)/F21) -> 0.3143017 | G37: (Schools + companies) / net revenue
A38: Net revenue per FTE (€) | B38: =IF(Assumptions_A!B17=0,0,B21/Assumptions_A!B17) -> 8604.8156 | C38: =IF(Assumptions_A!C17=0,0,C21/Assumptions_A!C17) -> 45789.153 | D38: =IF(Assumptions_A!D17=0,0,D21/Assumptions_A!D17) -> 105840.65 | E38: =IF(Assumptions_A!E17=0,0,E21/Assumptions_A!E17) -> 179471.2 | F38: =IF(Assumptions_A!F17=0,0,F21/Assumptions_A!F17) -> 259623.16
A39: Acquisition cost per paying subscriber (€) | B39: =IF(B10-B8*Assumptions_A!$B$7*Assumptions_A!B8<=0,0,B25/(B10-B8*Assumptions_A!$B$7*Assumptions_A!B8)) -> 133.33333 | C39: =IF(C10-C8*Assumptions_A!$B$7*Assumptions_A!C8<=0,0,C25/(C10-C8*Assumptions_A!$B$7*Assumptions_A!C8)) -> 91.666667 | D39: =IF(D10-D8*Assumptions_A!$B$7*Assumptions_A!D8<=0,0,D25/(D10-D8*Assumptions_A!$B$7*Assumptions_A!D8)) -> 66.666667 | E39: =IF(E10-E8*Assumptions_A!$B$7*Assumptions_A!E8<=0,0,E25/(E10-E8*Assumptions_A!$B$7*Assumptions_A!E8)) -> 53.333333 | F39: =IF(F10-F8*Assumptions_A!$B$7*Assumptions_A!F8<=0,0,F25/(F10-F8*Assumptions_A!$B$7*Assumptions_A!F8)) -> 40 | G39: Marketing / net new subscribers in the year (approximation)

Sheet Assumptions_B
A1: ScrollShield — Assumptions · Scenario B — EU and US from launch
A2: Blue cells = editable inputs. Every line is an assumption unless a source is given. Values in euro.
A4: Assumption | B4: 2027 | C4: 2028 | D4: 2029 | E4: 2030 | F4: 2031 | G4: Source / note
A5: New downloads in the year | B5: 1200000 | C5: 3500000 | D5: 7000000 | E5: 12000000 | F5: 18000000 | G5: Assumption. EU + US scope from 2027. References: TikTok ~169M monthly users in the EU (DSA disclosure) and 136-170M in the US (sources disagree); Instagram US ~181M.
A6: Activation: % of downloads still active at year end | B6: 0.3 | G6: Assumption.
A7: Annual retention of existing active users | B7: 0.6 | G7: Assumption.
A8: Paid conversion (% of active users) | B8: 0.03 | C8: 0.04 | D8: 0.05 | E8: 0.05 | F8: 0.05 | G8: Conservative assumption. Benchmark: Opal 9% after moving to freemium (RevenueCat, 2026).
A9: Annual subscription price (€) | B9: 69.99 | G9: Assumption: blend of $79.99 US and €59.99 EU, below Opal's $99.99.
A10: Store commission (% of B2C revenue) | B10: 0.2 | G10: Assumption: 30% on iOS US (in-app purchase mandatory) and 15% elsewhere, 20% blended.
A11: Schools: active contracts | B11: 0 | C11: 60 | D11: 300 | E11: 800 | F11: 1500 | G11: Assumption. B2B starts in 2028.
A12: Schools: students per contract | B12: 600 | G12: Assumption.
A13: Schools: price per student/year (€) | B13: 4 | G13: Assumption.
A14: Companies: active contracts | B14: 0 | C14: 15 | D14: 80 | E14: 250 | F14: 600 | G14: Assumption. B2B starts in 2028.
A15: Companies: users per contract | B15: 150 | G15: Assumption.
A16: Companies: price per user/year (€) | B16: 36 | G16: Assumption (€3/month per user).
A17: Team: average FTE in the year | B17: 9 | C17: 16 | D17: 28 | E17: 42 | F17: 60 | G17: Assumption.
A18: Average fully loaded cost per FTE (€) | B18: 85000 | C18: 88000 | D18: 90000 | E18: 92000 | F18: 95000 | G18: Assumption, mixed Italy/US team: US cost per head is roughly double.
A19: Acquisition cost per download (€) | B19: 2 | C19: 1.6 | D19: 1.3 | E19: 1 | F19: 0.8 | G19: Assumption: US paid social is more expensive; starts at €2.0 per download and falls with organic growth. This is the lever that decides the plan.
A20: Infrastructure and tools (€/year) | B20: 60000 | C20: 150000 | D20: 350000 | E20: 600000 | F20: 900000 | G20: Assumption. Inference runs on-device: cloud costs stay low.
A21: G&A (% of operating costs) | B21: 0.1 | G21: Assumption.
A22: Opening cash (€) | B22: 0 | G22: Assumption: company incorporated in early 2027.
A23: Buffer on funding need for the round (%) | B23: 0.25 | G23: Assumption: safety margin on the computed need.
A25: Legend: rows with a single value (yellow cell, 2027 column) apply to every year.

Sheet Model_B
A1: ScrollShield — Financial model 2027-2031 · Scenario B — EU and US from launch
A2: Every cell is a formula reading the Assumptions sheet. Values in euro.
A4: Line | B4: 2027 | C4: 2028 | D4: 2029 | E4: 2030 | F4: 2031 | G4: How it is computed
A6: USERS
A7: New downloads | B7: =Assumptions_B!B5 -> 1200000 | C7: =Assumptions_B!C5 -> 3500000 | D7: =Assumptions_B!D5 -> 7000000 | E7: =Assumptions_B!E5 -> 12000000 | F7: =Assumptions_B!F5 -> 18000000 | G7: From Assumptions
A8: Active users at start of year | B8: =0 -> 0 | C8: =B9 -> 360000 | D8: =C9 -> 1266000 | E8: =D9 -> 2859600 | F8: =E9 -> 5315760 | G8: Previous year end
A9: Active users at year end | B9: =B8*Assumptions_B!$B$7+B7*Assumptions_B!$B$6 -> 360000 | C9: =C8*Assumptions_B!$B$7+C7*Assumptions_B!$B$6 -> 1266000 | D9: =D8*Assumptions_B!$B$7+D7*Assumptions_B!$B$6 -> 2859600 | E9: =E8*Assumptions_B!$B$7+E7*Assumptions_B!$B$6 -> 5315760 | F9: =F8*Assumptions_B!$B$7+F7*Assumptions_B!$B$6 -> 8589456 | G9: Existing actives × retention + new downloads × activation
A10: Paying subscribers at year end | B10: =B9*Assumptions_B!B8 -> 10800 | C10: =C9*Assumptions_B!C8 -> 50640 | D10: =D9*Assumptions_B!D8 -> 142980 | E10: =E9*Assumptions_B!E8 -> 265788 | F10: =F9*Assumptions_B!F8 -> 429472.8 | G10: Active users × conversion
A11: Average paying subscribers in the year | B11: =(0+B10)/2 -> 5400 | C11: =(B10+C10)/2 -> 30720 | D11: =(C10+D10)/2 -> 96810 | E11: =(D10+E10)/2 -> 204384 | F11: =(E10+F10)/2 -> 347630.4 | G11: Average of start and end of year
A12: Students covered by school contracts | B12: =Assumptions_B!B11*Assumptions_B!$B$12 -> 0 | C12: =Assumptions_B!C11*Assumptions_B!$B$12 -> 36000 | D12: =Assumptions_B!D11*Assumptions_B!$B$12 -> 180000 | E12: =Assumptions_B!E11*Assumptions_B!$B$12 -> 480000 | F12: =Assumptions_B!F11*Assumptions_B!$B$12 -> 900000 | G12: Contracts × students per contract
A13: Users covered by company contracts | B13: =Assumptions_B!B14*Assumptions_B!$B$15 -> 0 | C13: =Assumptions_B!C14*Assumptions_B!$B$15 -> 2250 | D13: =Assumptions_B!D14*Assumptions_B!$B$15 -> 12000 | E13: =Assumptions_B!E14*Assumptions_B!$B$15 -> 37500 | F13: =Assumptions_B!F14*Assumptions_B!$B$15 -> 90000 | G13: Contracts × users per contract
A15: REVENUE
A16: Gross B2C revenue | B16: =B11*Assumptions_B!$B$9 -> 377946 | C16: =C11*Assumptions_B!$B$9 -> 2150092.8 | D16: =D11*Assumptions_B!$B$9 -> 6775731.9 | E16: =E11*Assumptions_B!$B$9 -> 14304836 | F16: =F11*Assumptions_B!$B$9 -> 24330652 | G16: Average subscribers × annual price
A17: Store commissions | B17: =-B16*Assumptions_B!$B$10 -> -75589.2 | C17: =-C16*Assumptions_B!$B$10 -> -430018.56 | D17: =-D16*Assumptions_B!$B$10 -> -1355146.4 | E17: =-E16*Assumptions_B!$B$10 -> -2860967.2 | F17: =-F16*Assumptions_B!$B$10 -> -4866130.3 | G17: Gross B2C revenue × commissione
A18: Net B2C revenue | B18: =B16+B17 -> 302356.8 | C18: =C16+C17 -> 1720074.2 | D18: =D16+D17 -> 5420585.5 | E18: =E16+E17 -> 11443869 | F18: =F16+F17 -> 19464521
A19: Schools revenue | B19: =B12*Assumptions_B!$B$13 -> 0 | C19: =C12*Assumptions_B!$B$13 -> 144000 | D19: =D12*Assumptions_B!$B$13 -> 720000 | E19: =E12*Assumptions_B!$B$13 -> 1920000 | F19: =F12*Assumptions_B!$B$13 -> 3600000 | G19: Students covered × price
A20: Companies revenue | B20: =B13*Assumptions_B!$B$16 -> 0 | C20: =C13*Assumptions_B!$B$16 -> 81000 | D20: =D13*Assumptions_B!$B$16 -> 432000 | E20: =E13*Assumptions_B!$B$16 -> 1350000 | F20: =F13*Assumptions_B!$B$16 -> 3240000 | G20: Company users × price
A21: Total net revenue | B21: =B18+B19+B20 -> 302356.8 | C21: =C18+C19+C20 -> 1945074.2 | D21: =D18+D19+D20 -> 6572585.5 | E21: =E18+E19+E20 -> 14713869 | F21: =F18+F19+F20 -> 26304521
A23: COSTS
A24: Team | B24: =Assumptions_B!B17*Assumptions_B!B18 -> 765000 | C24: =Assumptions_B!C17*Assumptions_B!C18 -> 1408000 | D24: =Assumptions_B!D17*Assumptions_B!D18 -> 2520000 | E24: =Assumptions_B!E17*Assumptions_B!E18 -> 3864000 | F24: =Assumptions_B!F17*Assumptions_B!F18 -> 5700000 | G24: FTE × average loaded cost
A25: Marketing and acquisition | B25: =B7*Assumptions_B!B19 -> 2400000 | C25: =C7*Assumptions_B!C19 -> 5600000 | D25: =D7*Assumptions_B!D19 -> 9100000 | E25: =E7*Assumptions_B!E19 -> 12000000 | F25: =F7*Assumptions_B!F19 -> 14400000 | G25: New downloads × cost per download
A26: Infrastructure and tools | B26: =Assumptions_B!B20 -> 60000 | C26: =Assumptions_B!C20 -> 150000 | D26: =Assumptions_B!D20 -> 350000 | E26: =Assumptions_B!E20 -> 600000 | F26: =Assumptions_B!F20 -> 900000 | G26: From Assumptions
A27: G&A | B27: =(B24+B25+B26)*Assumptions_B!$B$21 -> 322500 | C27: =(C24+C25+C26)*Assumptions_B!$B$21 -> 715800 | D27: =(D24+D25+D26)*Assumptions_B!$B$21 -> 1197000 | E27: =(E24+E25+E26)*Assumptions_B!$B$21 -> 1646400 | F27: =(F24+F25+F26)*Assumptions_B!$B$21 -> 2100000 | G27: % of operating costs
A28: Total costs | B28: =SUM(B24:B27) -> 3547500 | C28: =SUM(C24:C27) -> 7873800 | D28: =SUM(D24:D27) -> 13167000 | E28: =SUM(E24:E27) -> 18110400 | F28: =SUM(F24:F27) -> 23100000
A30: RESULT
A31: EBITDA | B31: =B21-B28 -> -3245143.2 | C31: =C21-C28 -> -5928725.8 | D31: =D21-D28 -> -6594414.5 | E31: =E21-E28 -> -3396531.1 | F31: =F21-F28 -> 3204521.4 | G31: Net revenue − total costs
A32: EBITDA margin | B32: =IF(B21=0,0,B31/B21) -> -10.732827 | C32: =IF(C21=0,0,C31/C21) -> -3.0480717 | D32: =IF(D21=0,0,D31/D21) -> -1.0033212 | E32: =IF(E21=0,0,E31/E21) -> -0.23083875 | F32: =IF(F21=0,0,F31/F21) -> 0.12182398 | G32: EBITDA / net revenue
A33: Cumulative cash at year end (no financing) | B33: =Assumptions_B!$B$22+B31 -> -3245143.2 | C33: =B33+C31 -> -9173869 | D33: =C33+D31 -> -15768283 | E33: =D33+E31 -> -19164815 | F33: =E33+F31 -> -15960293 | G33: Opening cash + cumulative EBITDA. The lowest point is the funding need.
A35: KPIs
A36: Average net revenue per subscriber (€) | B36: =IF(B11=0,0,B18/B11) -> 55.992 | C36: =IF(C11=0,0,C18/C11) -> 55.992 | D36: =IF(D11=0,0,D18/D11) -> 55.992 | E36: =IF(E11=0,0,E18/E11) -> 55.992 | F36: =IF(F11=0,0,F18/F11) -> 55.992 | G36: Net B2C revenue / abbonati medi
A37: B2B share of revenue | B37: =IF(B21=0,0,(B19+B20)/B21) -> 0 | C37: =IF(C21=0,0,(C19+C20)/C21) -> 0.11567682 | D37: =IF(D21=0,0,(D19+D20)/D21) -> 0.17527349 | E37: =IF(E21=0,0,(E19+E20)/E21) -> 0.2222393 | F37: =IF(F21=0,0,(F19+F20)/F21) -> 0.26003134 | G37: (Schools + companies) / net revenue
A38: Net revenue per FTE (€) | B38: =IF(Assumptions_B!B17=0,0,B21/Assumptions_B!B17) -> 33595.2 | C38: =IF(Assumptions_B!C17=0,0,C21/Assumptions_B!C17) -> 121567.14 | D38: =IF(Assumptions_B!D17=0,0,D21/Assumptions_B!D17) -> 234735.2 | E38: =IF(Assumptions_B!E17=0,0,E21/Assumptions_B!E17) -> 350330.21 | F38: =IF(Assumptions_B!F17=0,0,F21/Assumptions_B!F17) -> 438408.69
A39: Acquisition cost per paying subscriber (€) | B39: =IF(B10-B8*Assumptions_B!$B$7*Assumptions_B!B8<=0,0,B25/(B10-B8*Assumptions_B!$B$7*Assumptions_B!B8)) -> 222.22222 | C39: =IF(C10-C8*Assumptions_B!$B$7*Assumptions_B!C8<=0,0,C25/(C10-C8*Assumptions_B!$B$7*Assumptions_B!C8)) -> 133.33333 | D39: =IF(D10-D8*Assumptions_B!$B$7*Assumptions_B!D8<=0,0,D25/(D10-D8*Assumptions_B!$B$7*Assumptions_B!D8)) -> 86.666667 | E39: =IF(E10-E8*Assumptions_B!$B$7*Assumptions_B!E8<=0,0,E25/(E10-E8*Assumptions_B!$B$7*Assumptions_B!E8)) -> 66.666667 | F39: =IF(F10-F8*Assumptions_B!$B$7*Assumptions_B!F8<=0,0,F25/(F10-F8*Assumptions_B!$B$7*Assumptions_B!F8)) -> 53.333333 | G39: Marketing / net new subscribers in the year (approximation)
